Workbook
Name _01_北海道: OFFSET(#REF!,0,0,COUNTA(#REF!)-1,1)
Name _02_青森県: #REF!
Name _03_岩手県: #REF!
Name _04_宮城県: #REF!
Name _05_秋田県: #REF!
Name _06_山形県: #REF!
Name _07_福島県: #REF!
Name _08_茨城県: #REF!
Name _09_栃木県: #REF!
Name _10_群馬県: #REF!
Name _11_埼玉県: #REF!
Name _12_千葉県: #REF!
Name _13_東京都: #REF!
Name _14_神奈川県: #REF!
Name _15_新潟県: #REF!
Name _16_富山県: #REF!
Name _17_石川県: #REF!
Name _18_福井県: #REF!
Name _19_山梨県: #REF!
Name _20_長野県: #REF!
Name _21_岐阜県: #REF!
Name _22_静岡県: #REF!
Name _23_愛知県: #REF!
Name _24_三重県: #REF!
Name _25_滋賀県: #REF!
Name _26_京都府: #REF!
Name _27_大阪府: #REF!
Name _28_兵庫県: #REF!
Name _29_奈良県: #REF!
Name _30_和歌山県: #REF!
Name _31_鳥取県: #REF!
Name _32_島根県: #REF!
Name _33_岡山県: #REF!
Name _34_広島県: #REF!
Name _35_山口県: #REF!
Name _36_徳島県: #REF!
Name _37_香川県: #REF!
Name _38_愛媛県: #REF!
Name _39_高知県: #REF!
Name _40_福岡県: #REF!
Name _41_佐賀県: #REF!
Name _42_長崎県: #REF!
Name _43_熊本県: #REF!
Name _44_大分県: #REF!
Name _45_宮崎県: #REF!
Name _46_鹿児島県: #REF!
Name _47_沖縄県: #REF!
Name Autoshape1: #REF!
Name syuukeihyou11: [1]集計表２!$A$3:$AD$109

Sheet 別紙1-3「ＩＣＴ活用による業務改善計画書」 (2)
M1: 別紙１-３
A2: ＩＣＴ活用による業務改善計画書
A5: １-１ 法人・事業所概要
A7: 法人名
A8: 事業所名称
A9: 対象事業所種別
A12: 事業所所在地 | B12: 〒
B13: 東京都
A15: １-２ 現在の事業所の状況
A17: 定員数 | B17: ユニット型
B18: 従来型
A19: 建物構造 | G19: 延床面積
A20: 対象事業所種別 | E20: （ 床）
E22: （ ）
A23: 職員数 | B23: 介護職員 | D23: 常勤 | G23: 非常勤 | J23: 計
B24: 看護職員 | D24: 常勤 | G24: 非常勤 | J24: 計
B25: 合計 | D25: 常勤 | G25: 非常勤 | J25: 計
A27: ※補助申請年度の４月１日時点の情報を記入してください。
A28: ※職員数は、併設ショートステイを含めて記載し、その他併設サービスは含まずに記載ください。
N29: ※ＨＰ等での公表は２－１以降
A30: ２-１ 事業所の概要
A31: 対象事業所種別
A34: 法人名・施設名
A35: 竣工年月日
A36: 定員数
A37: 建物構造 | G37: 延床面積
A38: ２-２ 法人・事業所における解決課題
A39: 申請する事業所における現状の問題点、ＩＣＴ活用によって解決したいと考えている課題、効率化を図りたい介護業務等を具体的に記載してください。
A40: （現状の問題点、取り組むべき課題）
A41: （ＩＣＴ化する介護業務等）
A42: ２-３ 法人・事業所における検討状況、組織体制
A43: この申請にあたり、ＩＣＴ環境整備及びＩＣＴ機器導入に当たり、法人・事業所内でのどのような検討を行ったか、ＩＣＴ導入を担当する組織体制など具体的に記載してください。
A44: （内部での検討状況）
A45: （ＩＣＴ導入のための組織体制）
A46: 理事会等の 議事録 | B46: ＩＣＴによる業務改善計画の内容、環境整備や機器等の購入に係る各理事等の発言内容や質疑応答など、法人内部での意思決定過程がわかる詳細な議事録を作成し、原本証明した写しを別途提出すること。 | N46: ※議事録はＨＰ公表なし
A48: ２-４ 業務改善計画（基本単価に関するもの）
A49: １ 利用者処遇業務に関するＩＣＴ導入前の外部コンサルティング
A50: 外部コンサルティングの活用
A51: 活用する場合、委託先及び内容を具体的に記載してください。
A52: （委託先）
...

Sheet 実績報告一覧
A2: 令和７年度障害者支援施設等におけるデジタル技術等活用支援事業補助金 提出書類一覧（実績報告時）
A4: 実績報告の提出にあたり、こちらで提出書類をチェックの上、一緒に御提出ください。
A5: 番号 | B5: 様式 作成順 | C5: 提 出 書 類 名 | G5: 提出時 チェック欄 | H5: 注意点
A7: 1 | C7: 令和７年度障害者支援施設等におけるデジタル技術等活用支援事業補助金提出書類一覧（実績報告時）（本票） | H7: ◆提出時チェック欄にチェックし、提出漏れがないか確認の上、以下書類と一緒に提出すること。
A8: 2 | B8: 3 | C8: 実績報告書（様式第３号） | H8: ◆法人名、法人住所、代表者名、代表者印は印鑑証明書と同一のものか。 ◆日付は提出日を記入すること。
A9: 3 | B9: 2 | C9: 実績調書（別紙３－１、別紙３－１－１又は３－２－１） ロボット介護機器のみの場合：別紙３－１－２） | H9: ◆記入ミス、転記ミスはないか。
A10: 4 | B10: 1 | C10: 実績内訳書・事業報告書・実績報告書・経費報告書 （別紙３－１－２①②、３－１－３①② 又は３－２－２①②、３－２－３①②） ロボット介護機器のみの場合：別紙３－２－２） | H10: ◆記入ミス、転記ミスはないか。
A11: 5 | B11: 4 | C11: 歳入歳出決算（見込）書抄本（別紙３－３） | H11: ◆歳入と歳出の金額を一致させること。 ◆歳出の備考欄に経費詳細を記載すること。 ◆法人名、代表者名、代表者印は印鑑証明書と同一のものか。 ◆日付は提出日を記入すること。
A12: 6 | B12: 5 | C12: 支払金口座振替依頼書 | H12: ◆日付は空欄とすること
A13: 7 | C13: 導入した機器等の納品書及び領収書の写し | H13: ◆令和８年３月３１日までに納品及び支払を完了していること。 ◆交付申請時提出した場合も必ず提出 ◆経費の積算根拠となる資料は全て添付
D14: 金額換算可能な各種ポイントが付与・利用された場合の当該ポイント相当額の確認できる根拠資料 ※利用されたポイント数が記載された請求書、ポイント付与の条件（何円購入で何ポイント）や１ポイント当たりの換金率が記載されたカード会社の規約書等 | H14: ◆交付申請時提出した場合も必ず提出 ◆該当がある場合のみ提出 ◆可能な限り、クレジットカードやポイントカード等の利用は避けるようにしてください。
A15: 8 | C15: コンサルティングの目的、内容、契約締結日、契約期間、金額、相手方が確認できる書類 （例）コンサルティングの契約書及び仕様書の写し | H15: ◆交付申請時提出した場合も必ず提出 ◆コンサルティング経費を申請した場合のみ
A16: 9 | C16: 導入した機器等の写真 | H16: ◆申請経費に係る現物の写真
A17: 10 | C17: その他参考となる資料
A18: ※その他必要に応じて、書類の提出をお願いすることがあります。
A21: ○申請する経費について、以下の点を確認し、レ点をつけてください。
B22: 本補助金と対象経費を重複して他の補助金等の交付を受けていない。
B23: 「他の補助金等」とは、経産省事業が実施している「ＩＴ導入補助金」 等
A25: 〇申請する経費の支払時に、金額換算可能な各種ポイントが付与又は利用されたかについて、以下のチェックボックスのうち該当するものにレ点を付けてください。
A27: ① 対象経費の支払時に、金額換算可能な各種ポイントが付与された。
B28: ※金額換算可能な各種ポイントが付与された場合は、当該ポイントの今後の利用予定の有無にかかわらず、レ点を付けること。
A29: ② 対象経費の支払時に、対象経費の一部の金額について金額換算可能な各種ポイントを利用した。
A30: ③ 上記①及び②のいずれにも該当しない。

Sheet 様式第３号
A1: 様式第３号 | T1: 第 号
T2: 令和８年 ４月７日
B6: 東京都知事 殿
M7: 提出者
N8: 所在地 | Q8: 東京都中野区白鷺1-30-6
N9: 法人名 | Q9: 株式会社朝焼け
N10: 代表者職氏名 | R10: 代表取締役 小泉 賢貴
B13: 障害者支援施設におけるデジタル技術等活用支援事業補助金の実績報告について
B17: このことについて、下記のとおり提出いたします。
A20: 記
B23: １ 実績額 | H23: 金 円 | I23: =+'別紙3-1「実績調書」 統合'!G13 -> 480000 | Q23: 円
B25: ２ 施設の名称 | H25: ='別紙3-1「実績調書」 統合'!I4 -> 中野事業所
B27: ３ 添付資料
B28: ア 実績調書（別紙３-１、別紙3-1-1、別紙3-2-1）
B29: イ 実績内訳書（別紙3-1-2①②、別紙3-2-2①②）
B30: ウ 実績報告書（別紙3-1-3①②、別紙3-2-3①②）
B31: エ 契約書等、納品書並びに領収書の写し
B32: オ 歳入歳出決算（見込）書抄本（別紙３－３）
B33: カ その他参考となる資料
M36: 担 当 者
M37: 所属 | Q37: 本社（中野事業所）
M39: 氏名 | Q39: 青山 大樹
M40: TEL | Q40: 080-4000-1077
M41: e-mail | Q41: aoyamahirokig@gmail.com

Sheet 別紙3-1「実績調書」 統合
A1: 別紙３－１
H2: （法人名） | I2: 株式会社朝焼け
H3: （事業所種別） | I3: 居宅介護
H4: （事業所名） | I4: 中野事業所
B5: 実績調書
A8: 対象事業 | B8: 総事業費 （円） （Ａ） | C8: 対象経費の 実支出額 （円） （Ｂ） | D8: 寄附金その他の 収入額 （円） （Ｃ） | E8: 差引後 実支出額 （円） （Ｄ＝Ｂ－Ｃ） | F8: 補助基準額 （円） （E） | G8: ＤとＥを比較して 少ない方の額 （円） （Ｆ） | H8: 積算額 （円） （Ｇ＝Ｆ×3/4） (千円未満切捨） | I8: 既交付決定額 （円） （Ｈ） | J8: 増減額 （円） （Ｉ=Ｇ－Ｈ）
A9: 障害者支援施設等デジタル技術等活用支援事業 | B9: =+'別紙3-1-1「ロボット実績調書」'!A9 -> 0 | C9: =+'別紙3-1-1「ロボット実績調書」'!B9 -> 0 | D9: =+'別紙3-1-1「ロボット実績調書」'!C9 -> 0 | E9: =+'別紙3-1-1「ロボット実績調書」'!D9 -> 0 | F9: =+'別紙3-1-1「ロボット実績調書」'!E9 -> 0 | G9: =+'別紙3-1-1「ロボット実績調書」'!F9 -> 0 | H9: =+'別紙3-1-1「ロボット実績調書」'!G9 -> 0 | I9: =+'別紙3-1-1「ロボット実績調書」'!H9 -> 0 | J9: =+'別紙3-1-1「ロボット実績調書」'!I9 -> 0
A10: デジタル技術を活用した障害福祉サービス事業所等支援事業 | B10: ='別紙3-2-1「デジタル実績調書」'!B9 -> 640000 | C10: ='別紙3-2-1「デジタル実績調書」'!C9 -> 640000 | D10: ='別紙3-2-1「デジタル実績調書」'!D9 -> 0 | E10: ='別紙3-2-1「デジタル実績調書」'!E9 -> 640000 | F10: =IF(E10=0,0,'別紙3-2-1「デジタル実績調書」'!F9) -> 1334000 | G10: ='別紙3-2-1「デジタル実績調書」'!G9 -> 640000 | H10: ='別紙3-2-1「デジタル実績調書」'!H9 -> 480000 | I10: ='別紙3-2-1「デジタル実績調書」'!I9 -> 480000 | J10: ='別紙3-2-1「デジタル実績調書」'!J9 -> 0
A11: 合計 | B11: =SUM(B9:B10) -> 640000 | C11: =SUM(C9:C10) -> 640000 | D11: =SUM(D9:D10) -> 0 | E11: =SUM(E9:E10) -> 640000 | F11: =SUM(F9:F10) -> 1334000 | G11: =SUM(G9:G10) -> 640000 | H11: =SUM(H9:H10) -> 480000 | I11: =SUM(I9:I10) -> 480000 | J11: =SUM(J9:J10) -> 0
B13: 実績額（円） （ＧとＨを比較して少ない方の額） | G13: =MIN(H11,I11) -> 480000
B15: （注１）申請額は、千円未満を切り捨てた額とすること。

Sheet 別紙3-1-1「ロボット実績調書」
A1: 別紙３-１-１
G2: （法人名）
G3: （事業所種別・定員数）
G4: （事業所名）
A5: 実績調書
A8: 総事業費 （円） （Ａ） | B8: 対象経費の 実支出額 （円） （Ｂ） | C8: 寄附金その他の 収入額 （円） （Ｃ） | D8: 差引後 実支出額 （円） （Ｄ＝Ｂ－Ｃ） | E8: 補助基準額 （円） （E） | F8: ＤとＥを比較して 少ない方の額 （円） （Ｆ） | G8: 積算額 （円） （Ｇ＝Ｆ×3/4） (千円未満切捨） | H8: 既交付決定額 （円） （Ｈ） | I8: 増減額 （円） （Ｉ=Ｇ－Ｈ）
A9: =+B9 -> 0 | B9: =+'別紙3-１-２①「ロボット実績内訳書」'!G48 -> 0 | D9: =+B9-C9 -> 0 | E9: =IFERROR(VLOOKUP(H3,$L$18:$M$45,2,0),0) -> 0 | F9: =MIN(E9,D9) -> 0 | G9: =ROUNDDOWN(F9*3/4,-3) -> 0 | I9: =+G9-H9 -> 0
A11: 実績額（円） （ＧとＨを比較して少ない方の額） | F11: =MIN(G9,H9) -> 0
A13: （注１）申請額は、千円未満を切り捨てた額とすること。
L18: 障害者支援施設（「デジタル及びロボット」20人以下） | M18: 6660000
L19: 障害者支援施設（「デジタル及びロボット」21人以上40人以下） | M19: 9990000
L20: 障害者支援施設（「デジタル及びロボット」41人以上60人以下） | M20: 16650000
L21: 障害者支援施設（「デジタル及びロボット」61人以上） | M21: 20000000
L22: 障害者支援施設（「ロボット」20人以下） | M22: 2000000
L23: 障害者支援施設（「ロボット」21人以上40人以下） | M23: 3000000
L24: 障害者支援施設（「ロボット」41人以上60人以下） | M24: 5000000
L25: 障害者支援施設（「ロボット」61人以上） | M25: 6000000
L26: 福祉型障害児入所施設（「デジタル及びロボット」20人以下） | M26: 5600000
L27: 福祉型障害児入所施設（「デジタル及びロボット」21人以上40人以下） | M27: 8400000
L28: 福祉型障害児入所施設（「デジタル及びロボット」41人以上60人以下） | M28: 14000000
L29: 福祉型障害児入所施設（「デジタル及びロボット」61人以上） | M29: 16800000
... L45: 重度障害者等包括支援（「ロボット」） | M45: 1500000

Sheet 別紙3-１-２①「ロボット実績内訳書」
B1: 別紙３-１-２① | K1: 工事請負費
D2: （法人名） | E2: ='別紙3-1-1「ロボット実績調書」'!H2 -> 0 | K2: 備品購入費
D3: （事業所種別・定員数） | E3: ='別紙3-1-1「ロボット実績調書」'!H3 -> 0 | K3: 役務費
D4: （事業所名） | E4: ='別紙3-1-1「ロボット実績調書」'!H4 -> 0 | K4: 委託料
K5: 使用料及賃借料
B6: 実績内訳書 | K6: その他
B9: １ 利用者支援業務の効率化に資するデジタル機器の導入等 | K9: 役務費
B10: （ア）見守り支援機器 | K10: 委託料
B11: 科目（選択） | C11: 内容 | D11: 支出月 | E11: 単価（円） | F11: 数量 | G11: 支出額（円） | K11: その他
G12: =E12*F12 -> 0
G13: =E13*F13 -> 0
B14: 小 計（Ａ） | G14: =+SUM(G12:G13) -> 0
B16: （イ）情報共有のための通信機器、業務支援のためのソフトウェア等
B17: 科目（選択） | C17: 内容 | D17: 支出月 | E17: 単価（円） | F17: 数量 | G17: 支出額（円）
G18: =E18*F18 -> 0
G19: =E19*F19 -> 0
B20: 小 計（Ｂ） | G20: =+SUM(G18:G19) -> 0
B22: （ウ）通信環境整備
B23: 科目（選択） | C23: 内容 | D23: 支出月 | E23: 単価（円） | F23: 数量 | G23: 支出額（円）
G24: =E24*F24 -> 0
G25: =E25*F25 -> 0
B26: 小 計（Ｃ） | G26: =+SUM(G24:G25) -> 0
B28: ２ 介護従事者の負担軽減等に資するロボット介護機器の導入等
B29: 科目（選択） | C29: 内容 | D29: 支出月 | E29: 単価（円） | F29: 数量 | G29: 支出額（円）
G30: =E30*F30 -> 0
G38: =E38*F38 -> 0
G39: =E39*F39 -> 0
B40: 小 計（Ｄ） | G40: =+SUM(G30:G39) -> 0
B42: ３ 機器選定等に係るアドバイザー費用
B43: 科目（選択） | C43: 内容 | D43: 支出月 | E43: 単価（円） | F43: 数量 | G43: 支出額（円）
G44: =E44*F44 -> 0
B45: 小 計（Ｅ） | G45: =+G44 -> 0
G47: 支出額（円）
B48: 合 計（Ａ+Ｂ+Ｃ+Ｄ+Ｅ）（補助対象経費） | G48: =G14+G19+G26+G40+G45 -> 0
B49: （注）契約書等の写しを添付し、補助対象経費の内容について具体的にわかるようにすること。
B50: 支出予定額の積算、内訳等が確認できないものは、対象として認めない。

Sheet 別紙3-1-2②「ロボット実績内訳書」
A1: 別紙３－１－２②
A2: 事業報告書
B3: ※導入機器ごとの効果や目的等を把握するため、導入機器ごとにそれぞれ作成をしてください。（一体的に利用している機器を除く）
K4: 自治体名
B5: 【基本情報】
B6: フリガナ
B7: 法人名
B8: フリガナ
B9: 事業所名
B10: 施設・事業所種別（指定を複数受けている場合は、補助上限額を適用する施設・事業所を選択）
B12: 職員数（常勤換算数） 【「従事者の１ヶ月の勤務時間」／「事業所等が定めている、常勤の従事者が勤務すべき１週間の時間数 × ４（週）」にて算出（産休・育休、休職は除く）】
B15: （１）主な導入機器内容（種別・機器名等）
B16: 機器の種別： | C16: 移乗介護 | D16: 排泄支援 | F16: 入浴支援
C17: 移動支援 | D17: 見守り・コミュニケーション
B19: 機器名(導入台数）：
B22: （２）ロボット機器等導入前の定量的指標及びロボット機器等導入後の定量的指標
B23: ① ロボット機器等導入前の業務時間内訳
B24: 業務内容 | D24: A.業務従事者数 | E24: 発生件数 | J24: D. 1件当たりの 平均処理時間（分） | K24: 人時間 E（A×C×D） | L24: １人あたり 業務時間 （C×D／A）
E25: B.ひと月当たり | F25: C.年間発生件数（B×12）
B26: 直接介護 | C26: １ 移動・移乗・体位変換 | F26: =E26*12 -> 0 | K26: =$D$26*$F$26*$J$26/60 -> 0 | L26: =($F$26*$J$26/60)/$D$26 -> #DIV/0!
C27: ２ 排泄介助・支援 | F27: =E27*12 -> 0 | K27: =$D$27*$F$27*$J$27/60 -> 0 | L27: =($F$27*$J$27/60)/$D$27 -> #DIV/0!
C28: ３ 生活自立支援（※1） | F28: =E28*12 -> 0 | K28: =$D$28*$F$28*$J$28/60 -> 0 | L28: =($F$28*$J$28/60)/$D$28 -> #DIV/0!
C29: ４ 行動上の問題への対応（※2） | F29: =E29*12 -> 0 | K29: =$D$29*$F$29*$J$29/60 -> 0 | L29: =($F$29*$J$29/60)/$D$29 -> #DIV/0!
C30: ５ その他の直接介護 | F30: =E30*12 -> 0 | K30: =$D$30*$F$30*$J$30/60 -> 0 | L30: =($F$30*$J$30/60)/$D$30 -> #DIV/0!
B31: 間接業務 | C31: ６ 巡回・移動 | F31: =E31*12 -> 0 | K31: =$D$31*$F$31*$J$31/60 -> 0 | L31: =($F$31*$J$31/60)/$D$31 -> #DIV/0!
C32: ７ 記録・文書作成・連絡調整等（※3） | F32: =E32*12 -> 0 | K32: =$D$32*$F$32*$J$32/60 -> 0 | L32: =($F$32*$J$32/60)/$D$32 -> #DIV/0!
C33: ８ 見守り機器の使用・確認 | F33: =E33*12 -> 0 | K33: =$D$33*$F$33*$J$33/60 -> 0 | L33: =($F$33*$J$33/60)/$D$33 -> #DIV/0!
C34: ９ その他の間接業務 | F34: =E34*12 -> 0 | K34: =$D$34*$F$34*$J$34/60 -> 0 | L34: =($F$34*$J$34/60)/$D$34 -> #DIV/0!
E35: =SUM(E26:E34) -> 0 | F35: =SUM(F26:I34) -> 0 | J35: =SUM(J26:J34) -> 0 | K35: =SUM(K26:K34) -> 0 | L35: =SUM(L26:L34) -> #DIV/0!
B39: 以下の※１及び※２については、ロボット機器等導入前の実際の業務状況に即した算出をお願いします。
B40: ＜※１＞B．ひと月当たり発生件数の算出方法
B42: ＜※２＞D．１件当たりの平均処理時間の算出方法
B45: ② ロボット機器等導入後の業務時間内訳
B46: 業務内容 | D46: A.業務従事者数 | E46: 発生件数 | J46: D. 1件当たりの 平均処理時間（分） | K46: 人時間 E（A×C×D） | L46: １人あたり 業務時間 （C×D／A）
E47: B.ひと月当たり | F47: C.年間発生件数（B×12）
B48: 直接介護 | C48: １ 移動・移乗・体位変換 | F48: =E48*12 -> 0 | K48: =$D$48*$F$48*$J$48/60 -> 0 | L48: =($F$48*$J$48/60)/$D$48 -> #DIV/0!
C49: ２ 排泄介助・支援 | F49: =E49*12 -> 0 | K49: =$D$49*$F$49*$J$49/60 -> 0 | L49: =($F$49*$J$49/60)/$D$49 -> #DIV/0!
C50: ３ 生活自立支援（※1） | F50: =E50*12 -> 0 | K50: =$D$50*$F$50*$J$50/60 -> 0 | L50: =($F$50*$J$50/60)/$D$50 -> #DIV/0!
C51: ４ 行動上の問題への対応（※2） | F51: =E51*12 -> 0 | K51: =$D$51*$F$51*$J$51/60 -> 0 | L51: =($F$51*$J$51/60)/$D$51 -> #DIV/0!
C52: ５ その他の直接介護 | F52: =E52*12 -> 0 | K52: =$D$52*$F$52*$J$52/60 -> 0 | L52: =($F$52*$J$52/60)/$D$52 -> #DIV/0!
...

Sheet 別紙3-1-3①「ロボット実績報告書」
A1: 別紙３－１－３①
B2: 障害福祉分野のロボット等導入支援事業 （施設等に対する導入支援分） 実績報告書
B3: ※導入機器ごとの効果や目的等を把握するため、導入機器ごとにそれぞれ作成をしてください。（一体的に利用している機器を除く）
M4: 自治体名
B5: 【基本情報】
B6: フリガナ
B7: 法人名
B8: フリガナ
B9: 事業所名
B10: 施設・事業所種別（指定を複数受けている場合は、補助上限額を適用する施設・事業所を選択）
B12: 職員数（常勤換算数） 【「全職員の月間勤務時間数」／「常勤職員の月間勤務時間数」にて算出（産休・育休、休職は除く）】
B14: 参考情報：令和元年度から令和５年度に係るロボット等導入支援事業補助実績（複数回補助を受けている場合、補助年度は直近を選択）
B15: （補助実績） | E15: （補助年度）
B17: 【報告に当たっての確認事項】 ※記載内容を確認し、チェックすること。
B18: 導入経費の算定に当たっては、複数の業者から見積書を徴した。
B19: ロボット等導入によって得られた生産性向上による業務効率化及び職員の業務負担軽減により超過勤務手当等の経費に金銭的剰余が出た場合には、 当該費用を利用者が受ける障害福祉サービスの質の向上や職員の賃金改善に資する取組に適切に使用するとともに、その旨を職員等に周知した。
B20: 「福祉・介護職員等処遇改善加算」を算定した。
B22: 事業実績
B23: （１）主な導入機器内容（種別・機器名等）
B24: 機器の種別： | D24: 移乗介護 | F24: 排泄支援 | L24: 入浴支援 | T24: FALSE
D25: 移動支援 | F25: 見守り・コミュニケーション | T25: FALSE
T26: FALSE
B27: 機器名： | T27: FALSE
T28: FALSE
B29: 機器の特徴： | T29: FALSE
T30: FALSE
T31: FALSE
T32: FALSE
B33: （２）機器を導入して感じた課題及び効果（複数回答可） | T33: FALSE
B34: 課題 | J34: 効果 | T34: FALSE
T35: FALSE
T36: FALSE
T37: FALSE
T38: FALSE
J39: （※その他を選択した場合に記入 ） | T39: FALSE
B40: （※その他を選択した場合に記入 ）
B42: （３）事業所が抱える課題
B45: （４）ロボット機器等を導入した業務内容（概要）

Sheet 別紙3-1-3②「ロボット実績報告書」
A1: 別紙３－１－３②
B2: 経費報告書
P5: 自治体名
C7: 【基本情報】
C8: 法人名
C9: 事業所名
C10: 職員数（実数） | F10: 人
C11: 施設利用者数 | F11: 人
B13: 実支出額： | E13: =$C$17+$E$17-$G$17 -> 0 | J13: 円
C16: 機器導入費用（合計） | E16: 初期設定に要する費用（合計） | G16: 値引額（合計）
C17: =$P$25 -> 0 | E17: =$S$25 -> 0
B19: No. | C19: 導入内容 | K19: 数量 | M19: 単価 | P19: 機器導入費用 | S19: 初期設定に要する費用
B20: 1 | L20: 台 | P20: =K20*M20 -> 0
B21: 2 | L21: 台 | P21: =K21*M21 -> 0
B22: 3 | L22: 台 | P22: =K22*M22 -> 0
B23: 4 | L23: 台 | P23: =K23*M23 -> 0
B24: 5 | L24: 台 | P24: =K24*M24 -> 0
M25: 合計 | P25: =SUM(P20:R24) -> 0 | S25: =SUM(S20:U24) -> 0
B31: （２）見守り機器の導入に伴う通信環境整備に係る経費（障害者支援施設、グループホームのみ）
B32: 通信環境整備費用（合計）
B33: =G39 -> 0
B35: 積算内訳
F39: 費用合計
B41: 備考 （特別な事情等があれば記載）
B45: ※ | C45: 本内訳書の資料として、納品書及び領収書の写し（PDFファイルに限る。）を添付すること。

Sheet 別紙3-2-1「デジタル実績調書」
A1: 別紙３－２－１
H2: （事業所名） | I2: ='別紙3-2-3①「デジタル実績報告書」'!C9 -> 中野事業所 | P2: １～10人 | Q2: 1334000
H3: （職員数） | I3: {=_xlfn.IFS('別紙3-2-3②「デジタル経費報告書」'!D10<11,P2,'別紙3-2-3②「デジタル経費報告書」'!D10<21,P3,'別紙3-2-3②「デジタル経費報告書」'!D10<31,P4,'別紙3-2-3②「デジタル経費報告書」'!D10<51,P5,'別紙3-2-3②「デジタル経費報告書」'!D10<71,P6,'別紙3-2-3②「デジタル経費報告書」'!D10<91,P7,'別紙3-2-3②「デジタル経費報告書」'!D10<111,P8,'別紙3-2-3②「デジタル経費報告書」'!D10>110,P9)} -> １～10人 | P3: 11～20人 | Q3: 2134000
A4: 実績調書 | P4: 21～30人 | Q4: 2667000
H5: 単位（円） | P5: 31～50人 | Q5: 3467000
A6: 対象事業 | B6: 総事業費 （円） （Ａ） | C6: 対象経費の 実支出額 （円） （Ｂ） | D6: 寄附金その他の 収入額 （円） （Ｃ） | E6: 差引後 実支出額 （円） （Ｄ＝Ｂ－Ｃ） | F6: 補助基準額 （円） （E） | G6: ＤとＥを比較して 少ない方の額 （円） （Ｆ） | H6: 積算額 （円） （Ｇ＝Ｆ×3/4） (千円未満切捨） | I6: 既交付決定額 （円） （Ｈ） | J6: 増減額 （円） （Ｉ=Ｇ－Ｈ） | P6: 51～70人 | Q6: 4267000
A7: 福祉・介護業務支援システム導入等経費 | B7: =C7 -> 640000 | C7: ='別紙3-2-2①「デジタル実績内訳書」'!$S$34 -> 640000 | E7: =C7-D7 -> 640000 | F7: =IF(C7=0,0,VLOOKUP(I3,P2:Q9,2,0)) -> 1334000 | G7: =MIN(F7,E7) -> 640000 | H7: =ROUNDDOWN(G7*3/4,-3) -> 480000 | I7: 480000 | J7: =H7-I7 -> 0 | P7: 71～90人 | Q7: 5067000
A8: 福祉・介護業務支援システム導入前後のコンサルティング経費 | B8: =C8 -> 0 | C8: ='別紙3-2-2①「デジタル実績内訳書」'!$R$39 -> 0 | E8: =C8-D8 -> 0 | F8: =IF(C8=0,0,1000000) -> 0 | G8: =MIN(F8,E8) -> 0 | H8: =ROUNDDOWN(G8*3/4,-3) -> 0 | J8: =H8-I8 -> 0 | P8: 91～110人 | Q8: 5867000
A9: 合計 | B9: =SUM(B7:B8) -> 640000 | C9: =SUM(C7:C8) -> 640000 | D9: =SUM(D7:D8) -> 0 | E9: =SUM(E7:E8) -> 640000 | F9: =SUM(F7:F8) -> 1334000 | G9: =SUM(G7:G8) -> 640000 | H9: =SUM(H7:H8) -> 480000 | I9: =SUM(I7:I8) -> 480000 | J9: =SUM(J7:J8) -> 0 | P9: 111人～ | Q9: 6667000
A11: （注）申請額は、千円未満を切り捨てた額とすること。

Sheet 別紙3-2-2①「デジタル実績内訳書」
B1: 別紙３－２－２①
R2: （事業所名） | S2: ='別紙3-2-3①「デジタル実績報告書」'!C9 -> 中野事業所
A3: 実績内訳書
C5: ・支出予定額の積算、内訳等が確認できないものは、対象として認めない。
C6: ・ハードウェアについては、一気通貫できる福祉・介護システムを導入するためのものに限る。既存システムでも可。
C7: ・複数の福祉・介護業務支援システムを連携させることや、既に導入済みである福祉・介護業務支援システムに新たに業務機能を追加すること等により、上記の機能を有する場合も対象とする。
C8: ・次の「申請経費」のうち、今回申請する経費に「〇」を付けること。【必須経費】には、必ず「〇」を付けること。
C9: ・「〇」を付けた経費について、（１）から（４）までの該当する記載項目に、経費別積算内訳等を記載すること。
C10: 申請経費 | I10: 記載項目
D11: ソフトウェア（開発の際の開発基盤のみは対象外）導入費及び初期設定費 | I11: （１）
D12: 情報端末（タブレット端末・スマートフォン等ハードウェア、インカム）導入費及び初期設定費 | I12: （２）
D13: 通信環境機器等（Wi-Fi、ルーターなど）導入費 | I13: （３）
D14: 福祉・介護業務支援システム導入前後のコンサルティング経費 | I14: （４）
E16: ⇒プルダウンから該当する選択肢を１つ選択 | I16: ⇒文字等を直接入力
AF18: 〇 | AG18: 〇
U19: 交付申請内容等 ※交付申請または変更交付申請から変更があった場合のみ、変更前の経費について記入
B20: （１）① 令和７年度に導入し、本補助金を申請する福祉・介護業務支援システム(ソフトウェア・クラウドサービス等)導入経費 | AG20: ①記録業務・情報共有業務・請求業務
B21: システム名、デジタル機器名 （品番、型番他）【記入】 | E21: メーカー名【記入】 | G21: 導入したシステム・機器等【択一】 | H21: システムの場合は 機能を選択【択一】 | I21: 支出月 【記入】 | J21: 単価（円） 【記入】 | L21: 数量 【記入】 | M21: 数量が複数の場合の考え方 (ライセンス数・支払月数等)【記入】 ※年度内に納品及び支払いを終えたものが対象 | Q21: 初期設定等に要する費用 【記入】 | R21: 領収書等項番 【記入】 | S21: 支出額（円） | U21: 単価（円） 【記入】 | W21: 数量 【記入】 | X21: 初期設定等に要する費用 【記入】 | Y21: 支出(予定)額 （円）【記入】 | AA21: 金額変更理由【記入】 （例）欠品による同等品への変更 | AG21: ②バックオフィス業務
S22: 導入費用 | T22: 初期設定等費用 | Y22: 導入費用 | Z22: 初期設定等費用
A23: 1 | B23: ='別紙3-2-3②「デジタル経費報告書」'!$C20 -> デスクトップパソコン | E23: DELL | G23: パソコン | H23: ①記録業務・情報共有業務・請求業務 | I23: 46082 | J23: ='別紙3-2-3②「デジタル経費報告書」'!$M20 -> 200000 | L23: ='別紙3-2-3②「デジタル経費報告書」'!K20 -> 1 | Q23: ='別紙3-2-3②「デジタル経費報告書」'!$S20 -> 20000 | S23: ='別紙3-2-3②「デジタル経費報告書」'!P20 -> 200000 | T23: =Q23 -> 20000 | Y23: =U23*W23 -> 0 | Z23: =X23 -> 0
A24: 2 | B24: ='別紙3-2-3②「デジタル経費報告書」'!$C21 -> ノートパソコン | E24: DELL | G24: パソコン | H24: ①記録業務・情報共有業務・請求業務 | I24: 46082 | J24: ='別紙3-2-3②「デジタル経費報告書」'!$M21 -> 120000 | L24: ='別紙3-2-3②「デジタル経費報告書」'!K21 -> 3 | Q24: ='別紙3-2-3②「デジタル経費報告書」'!$S21 -> 60000 | S24: ='別紙3-2-3②「デジタル経費報告書」'!P21 -> 360000 | T24: =Q24 -> 60000 | Y24: =U24*W24 -> 0 | Z24: =X24 -> 0
A25: 3 | B25: ='別紙3-2-3②「デジタル経費報告書」'!$C22 -> 0 | J25: ='別紙3-2-3②「デジタル経費報告書」'!$M22 -> 0 | L25: ='別紙3-2-3②「デジタル経費報告書」'!K22 -> 0 | Q25: ='別紙3-2-3②「デジタル経費報告書」'!$S22 -> 0 | S25: ='別紙3-2-3②「デジタル経費報告書」'!P22 -> 0 | T25: =Q25 -> 0 | Y25: =U25*W25 -> 0 | Z25: =X25 -> 0
A26: 4 | B26: ='別紙3-2-3②「デジタル経費報告書」'!$C23 -> 0 | J26: ='別紙3-2-3②「デジタル経費報告書」'!$M23 -> 0 | L26: ='別紙3-2-3②「デジタル経費報告書」'!K23 -> 0 | Q26: ='別紙3-2-3②「デジタル経費報告書」'!$S23 -> 0 | S26: ='別紙3-2-3②「デジタル経費報告書」'!P23 -> 0 | T26: =Q26 -> 0 | Y26: =U26*W26 -> 0 | Z26: =X26 -> 0
A27: 5 | B27: ='別紙3-2-3②「デジタル経費報告書」'!$C24 -> 0 | J27: ='別紙3-2-3②「デジタル経費報告書」'!$M24 -> 0 | L27: ='別紙3-2-3②「デジタル経費報告書」'!K24 -> 0 | Q27: ='別紙3-2-3②「デジタル経費報告書」'!$S24 -> 0 | S27: ='別紙3-2-3②「デジタル経費報告書」'!P24 -> 0 | T27: =Q27 -> 0 | Y27: =U27*W27 -> 0 | Z27: =X27 -> 0
A28: 6 | B28: ='別紙3-2-3②「デジタル経費報告書」'!$C25 -> 0 | J28: ='別紙3-2-3②「デジタル経費報告書」'!$M25 -> 0 | L28: ='別紙3-2-3②「デジタル経費報告書」'!K25 -> 0 | Q28: ='別紙3-2-3②「デジタル経費報告書」'!$S25 -> 0 | S28: ='別紙3-2-3②「デジタル経費報告書」'!P25 -> 0 | T28: =Q28 -> 0 | Y28: =U28*W28 -> 0 | Z28: =X28 -> 0
A29: 7 | B29: ='別紙3-2-3②「デジタル経費報告書」'!$C26 -> 0 | J29: ='別紙3-2-3②「デジタル経費報告書」'!$M26 -> 0 | L29: ='別紙3-2-3②「デジタル経費報告書」'!K26 -> 0 | Q29: ='別紙3-2-3②「デジタル経費報告書」'!$S26 -> 0 | S29: ='別紙3-2-3②「デジタル経費報告書」'!P26 -> 0 | T29: =Q29 -> 0 | Y29: =U29*W29 -> 0 | Z29: =X29 -> 0
A30: 8 | B30: ='別紙3-2-3②「デジタル経費報告書」'!$C27 -> 0 | J30: ='別紙3-2-3②「デジタル経費報告書」'!$M27 -> 0 | L30: ='別紙3-2-3②「デジタル経費報告書」'!K27 -> 0 | Q30: ='別紙3-2-3②「デジタル経費報告書」'!$S27 -> 0 | S30: ='別紙3-2-3②「デジタル経費報告書」'!P27 -> 0 | T30: =Q30 -> 0 | Y30: =U30*W30 -> 0 | Z30: =X30 -> 0
A31: 9 | B31: ='別紙3-2-3②「デジタル経費報告書」'!$C28 -> 0 | J31: ='別紙3-2-3②「デジタル経費報告書」'!$M28 -> 0 | L31: ='別紙3-2-3②「デジタル経費報告書」'!K28 -> 0 | Q31: ='別紙3-2-3②「デジタル経費報告書」'!$S28 -> 0 | S31: ='別紙3-2-3②「デジタル経費報告書」'!P28 -> 0 | T31: =Q31 -> 0 | Y31: =U31*W31 -> 0 | Z31: =X31 -> 0
A32: 10 | B32: ='別紙3-2-3②「デジタル経費報告書」'!$C29 -> 0 | J32: ='別紙3-2-3②「デジタル経費報告書」'!$M29 -> 0 | L32: ='別紙3-2-3②「デジタル経費報告書」'!K29 -> 0 | Q32: ='別紙3-2-3②「デジタル経費報告書」'!$S29 -> 0 | S32: ='別紙3-2-3②「デジタル経費報告書」'!P29 -> 0 | T32: =Q32 -> 0 | Y32: =U32*W32 -> 0 | Z32: =X32 -> 0
B33: 合 計 | S33: ='別紙3-2-3②「デジタル経費報告書」'!P30 -> 560000 | T33: =SUM(T23:T32) -> 80000
S34: =SUM(S33,T33) -> 640000
B36: （２）福祉・介護業務支援システム導入前後のコンサルティング経費 | T36: 交付申請内容等 ※※交付申請または変更交付申請から変更があった場合のみ、変更前の経費について記入
B37: コンサルティングの内容【択一】 | G37: コンサルティング会社【記入】 | I37: 支出月 【記入】 | J37: 単価（円） 【記入】 | L37: 数量 【記入】 | M37: 数量が複数の場合の考え方 (コンサルティング月数等)【記入】 ※年度内に納品及び支払いを終えたものが対象 | Q37: 領収書等 項番 【記入】 | R37: 支出額（円） | T37: 単価（円） 【記入】 | V37: 数量 【記入】 | W37: 支出(予定)額 （円） | Y37: 金額変更理由【記入】 （例）コンサルティング実施期間の短縮
A38: 1 | R38: =J38*L38 -> 0 | W38: =T38*V38 -> 0
B39: 合 計 | R39: =R38 -> 0
C43: 介護業務支援システム（ソフトウェアやクラウドサービス）の導入経費
C44: ハードウェア（タブレット端末等）の導入経費
C45: Ｗｉ－Ｆｉ環境整備に必要なネットワーク機器の導入経費
C46: ＩＣＴ導入に関する他事業者からの照会等に応じた場合の経費
C48: 介護業務支援システムの選定に関するコンサルティング経費
...

Sheet 別紙3-2-2②「デジタル事業報告書」
A1: 別紙３－２－２②
B2: 事業報告書
H4: 自治体名 | I4: 東京都
B6: 【基本情報】
B7: フリガナ | C7: ='別紙3-2-3①「デジタル実績報告書」'!C6 -> カブシキガイシャ アサヤケ
B8: 法人名 | C8: ='別紙3-2-3①「デジタル実績報告書」'!C7 -> 株式会社朝焼け
B9: フリガナ | C9: ='別紙3-2-3①「デジタル実績報告書」'!C8 -> ナカノジギョウショ
B10: 事業所名 | C10: ='別紙3-2-3①「デジタル実績報告書」'!C9 -> 中野事業所
B11: 提供サービス（複数のサービスを提供している場合は、主たる１つのみ選択）
B12: ='別紙3-2-3①「デジタル実績報告書」'!B11 -> 訪問介護
B13: 職員数（常勤換算数） 【「全職員の月間勤務時間数」／「常勤職員の月間勤務時間数」にて算出（産休・育休、休職は除く）】
B14: ='別紙3-2-3①「デジタル実績報告書」'!B13 -> 4
B15: ICT機器等導入完了日 | C15: 令和 ８年３月３１日
B17: ※行・列の追加は行わないでください。
B19: （１）モデル事業の実施以前における当該事業所のICT機器等の導入・活用状況
B20: 業務内容 | C20: ICT機器等の導入・活用状況
B21: 支援記録の作成 | C21: ②一部、ICT機器等を導入している（紙とICT機器等の両方で事務作業を行っている）
B22: 職員間の情報伝達・情報共有 | C22: ②一部、ICT機器等を導入している（紙とICT機器等の両方で事務作業を行っている）
B23: 請求業務 | C23: ②一部、ICT機器等を導入している（紙とICT機器等の両方で事務作業を行っている）
B24: 勤怠管理 | C24: ①ICT機器等を導入していない（紙中心で事務作業を行っている）
B25: シフト表作成 | C25: ②一部、ICT機器等を導入している（紙とICT機器等の両方で事務作業を行っている）
B26: 給与業務 | C26: ②一部、ICT機器等を導入している（紙とICT機器等の両方で事務作業を行っている）
B27: ※「業務内容」に応じ、ICT機器等の導入・活用状況を選択してください。
B28: ①ICT機器等を導入していない（紙のみで対応）
B29: ②一部、ICT機器等を導入・活用している（紙とICT機器等で対応）
B30: ③ICT機器等を導入・活用している（全てICT機器等で対応）
B32: （２）モデル事業実施によるICT機器等の導入状況
B33: ICT機器等の種別 | D33: 導入目的 | E33: 製品名 | H33: 台 数 | I33: 備 考
B34: ①パソコン | D34: ①作業の迅速化 | E34: デスクトップパソコン | H34: 1
B35: ①パソコン | D35: ①作業の迅速化 | E35: ノートパソコン | H35: 3
B39: ※「ICT機器等の種別」については次の中から選択し、その種別ごとに導入目的、製品名、台数等を記載してください。
B40: ・情報端末等・・・・①パソコン、②スマートフォン、③タブレット、④インカム
B41: ・ソフトウェア・・・⑤記録・情報共有・請求関連業務ソフト、⑥勤怠管理・シフト表作成・人事給与関連業務ソフト
B42: ・通信環境機器・・・⑦Wi－Fi・ルーター
B43: なお、「⑧その他」を選択した場合には、「備考欄」に、ICT機器等の種別を記載してください。
B45: ※「導入目的」については、次の中から特に該当する番号を選択してください。
B46: ①作業の迅速化（支援記録の作成など）
B47: ②情報の共有化（職員間の情報伝達・情報共有など）
B48: ③業務の統合化（請求業務、勤怠管理、シフト表作成、給与業務など）
B49: ④その他
...

Sheet 別紙3-2-3①「デジタル実績報告書」
A1: 別紙３－２－３①
B2: 実績報告書
H4: 自治体名 | I4: 東京都
B5: 【基本情報】
B6: フリガナ | C6: カブシキガイシャ アサヤケ
B7: 法人名 | C7: 株式会社朝焼け
B8: フリガナ | C8: ナカノジギョウショ
B9: 事業所名 | C9: 中野事業所
B10: 提供サービス（複数のサービスを提供している場合は、主たる１つのみ選択）
B11: 訪問介護
B12: 職員数（常勤換算数） 【「全職員の月間勤務時間数」／「常勤職員の月間勤務時間数」にて算出（産休・育休、休職は除く）】
B13: 4
B14: 参考情報：令和元年度から令和６年度に係るICT導入モデル事業補助実績（複数回補助を受けている場合、補助年度は直近を選択）
B15: （補助実績） | D15: （補助年度）
B17: 【報告に当たっての確認事項】 ※記載内容を確認し、チェックすること。
B18: ICT機器（AIカメラ等除く）の申請のために、都道府県等が行うICT導入に伴う研修会に参加した。
B19: ICT機器等導入によって得られた生産性向上による業務効率化及び職員の業務負担軽減により超過勤務手当等の経費に金銭的剰余が出た場合には、 当該費用を利用者が受ける障害福祉サービスの質の向上や職員の賃金改善に資する取組に適切に使用するとともに、その旨を職員等に周知した。
B20: 「福祉・介護職員等処遇改善加算」を算定した。
A22: （該当する場合に、チェックしてください。）
B23: 同一敷地内に障害者を支援する施設・事業所と障害児を支援する施設・事業所が併設されている場合、障害者を支援する施設・事業所に係るICT機器導入の費用のみ計上している（費用を按分している）。
T25: TRUE
B26: １．事業実績
B27: （１）主な導入機器内容（複数選択可）
C29: パソコン | E29: スマートフォン | T29: FALSE
C30: タブレット | E30: インカム | T30: FALSE
C31: ＡＩカメラ等（防犯、虐待防止、事故防止など、利用者の安心安全のために活用するカメラ） | T31: TRUE
C32: ソフトウェア（事業所での業務を支援するソフトウェア（記録業務、情報共有業務、請求業務）で、各種業務を一気通貫で行うことが可能なものに限る。）
C33: ソフトウェア（バックオフィス業務のためのソフトウェア（勤怠管理、シフト表作成、人事、給与などの業務）で、各種業務を一気通貫で行うことが可能なものに限る。） | T33: FALSE
T34: FALSE
C35: 通信環境機器等（Wi-Fiルーターなど） | T35: FALSE
C36: 保守経費等（クラウドサービス、保守・サポート費、導入設定、導入研修、セキュリティ対策など） | T36: TRUE
C37: その他（ ） | T37: TRUE
B39: （２）ICTの導入を実施した分野（特に該当するもの１つに☑） | T39: FALSE
C40: 作業の迅速化に係る取組（現場や外出先での入力支援、支援記録の作成など） | T40: FALSE
C41: 情報の共有化に係る取組（職員間の情報の伝達など） | T41: FALSE
C42: 業務の統合化に係る取組（勤怠管理、シフト表作成、人事・給与業務など）
C43: その他
B45: （３）機器を導入して感じた課題及び効果（複数回答可）
B46: 課題 | H46: 効果
H51: （※その他を選択した場合に記入 ）
...

Sheet 別紙3-2-3②「デジタル経費報告書」
A1: 別紙３－２－３②
B2: 経費報告書
P5: 自治体名 | S5: 東京都
C7: 【基本情報】
C8: 法人名 | D8: ='別紙3-2-3①「デジタル実績報告書」'!C7 -> 株式会社朝焼け
C9: 事業所名 | D9: ='別紙3-2-3①「デジタル実績報告書」'!C9 -> 中野事業所
C10: 職員数（実数） | D10: 4 | F10: 人
C11: 施設利用者数 | D11: 48 | F11: 人
B13: 実支出額： | E13: =$C$17+$E$17-$G$17 -> 640000 | J13: 円
C16: 機器導入費用 （合計） | E16: 初期設定に要する費用 （合計） | G16: 値引額 （合計）
C17: =$P$30 -> 560000 | E17: =$S$30 -> 80000 | G17: ='別紙3-2-1「デジタル実績調書」'!D7 -> 0
B19: No. | C19: 導入内容 | K19: 数量 | M19: 単価 | P19: 機器導入費用 | S19: 初期設定に要する費用
B20: 1 | C20: デスクトップパソコン | K20: 1 | L20: 台 | M20: 200000 | P20: =K20*M20 -> 200000 | S20: 20000
B21: 2 | C21: ノートパソコン | K21: 3 | L21: 台 | M21: 120000 | P21: =K21*M21 -> 360000 | S21: 60000
B22: 3 | P22: =K22*M22 -> 0
B23: 4 | P23: =K23*M23 -> 0
B24: 5 | P24: =K24*M24 -> 0
B25: 6 | P25: =K25*M25 -> 0
B26: 7 | P26: =K26*M26 -> 0
B27: 8 | P27: =K27*M27 -> 0
B28: 9 | P28: =K28*M28 -> 0
B29: 10 | P29: =K29*M29 -> 0
M30: 合計 | P30: =SUM(P20:R29) -> 560000 | S30: =SUM(S20:U29) -> 80000
B32: 備考 （特別な事情等があれば記載）
B36: ※ | C36: 本内訳書の資料として、納品書及び領収書の写し（PDFファイルに限る。）を添付すること。

Sheet 別紙３-３決算書抄本 
B1: 別紙３-３ | AK1: （法人名） | AL1: ='別紙3-1「実績調書」 統合'!$I$2 -> 株式会社朝焼け
AK2: （事業所種別） | AL2: ='別紙3-1「実績調書」 統合'!$I$3 -> 居宅介護
AK3: （事業所名） | AL3: ='別紙3-1「実績調書」 統合'!$I$4 -> 中野事業所
A5: 歳入歳出決算書抄本
B8: １ 歳入の部
BA9: （単位：円）
D10: 区 分 | S10: 決算額 | AJ10: 備 考
D12: 補助金 | S12: ='別紙3-1「実績調書」 統合'!$G$13 -> 480000
D15: 自己資金 | S15: =S25-S12 -> 160000
D25: 合 計 | S25: ='別紙3-1「実績調書」 統合'!E11 -> 640000
B27: ２ 歳出の部
D29: 区 分 | S29: 決算額 | AJ29: 備 考
D31: ロボット | S31: ='別紙3-1「実績調書」 統合'!E9 -> 0
D37: デジタル | S37: ='別紙3-1「実績調書」 統合'!E10 -> 640000
D44: 合 計 | S44: ='別紙3-1「実績調書」 統合'!E11 -> 640000
C47: 本書は、原本と相違ないことを証明します。
D49: 年 月 日
E51: 法人名 株式会社 朝焼け
E53: 代表者名 代表取締役 小泉 賢貴 | AG53: 印
